BEGIN:VCALENDAR
VERSION: 2.0
PRODID: -//hacksw/handcal//NONSGML v1.0//EN
BEGIN:VEVENT
UID:20260423T062707+030014939@kalenteri.proliitto.fi
DTSTAMP:20260423T062707+0300
DTSTART:20180424T100000+0300
DTEND:20180425T150000+0300
SUMMARY:Luottamushenkilö työhyvinvoinnin kehittäjänä -koulutus, Kirkkonummi
LOCATION:
END:VEVENT
END:VCALENDAR