BEGIN:VCALENDAR
VERSION: 2.0
PRODID: -//hacksw/handcal//NONSGML v1.0//EN
BEGIN:VEVENT
UID:20260423T024920+030015328@kalenteri.proliitto.fi
DTSTAMP:20260423T024920+0300
DTSTART:20181106T180000+0200
DTEND:20181106T190000+0200
SUMMARY:Tiedotussihteerinä toimiminen – webinaari Pron yhdistystoimijoille
LOCATION:
END:VEVENT
END:VCALENDAR