BEGIN:VCALENDAR
VERSION: 2.0
PRODID: -//hacksw/handcal//NONSGML v1.0//EN
BEGIN:VEVENT
UID:20260422T073251+030015439@kalenteri.proliitto.fi
DTSTAMP:20260422T073251+0300
DTSTART:20190213T180000+0200
DTEND:20190213T200000+0200
SUMMARY:Uudet mallisäännöt -info, VANTAA
LOCATION:
END:VEVENT
END:VCALENDAR