BEGIN:VCALENDAR
VERSION: 2.0
PRODID: -//hacksw/handcal//NONSGML v1.0//EN
BEGIN:VEVENT
UID:20260423T133246+030015991@kalenteri.proliitto.fi
DTSTAMP:20260423T133246+0300
DTSTART:20200220T170000+0200
DTEND:20200220T200000+0200
SUMMARY:Kuopion Seudun Pro ry: Luottamushenkilöiden tapaaminen
LOCATION:Hygge BRO, Kauppakatu 28, Kuópio
END:VEVENT
END:VCALENDAR