BEGIN:VCALENDAR
VERSION: 2.0
PRODID: -//hacksw/handcal//NONSGML v1.0//EN
BEGIN:VEVENT
UID:20260424T050456+030016246@kalenteri.proliitto.fi
DTSTAMP:20260424T050456+0300
DTSTART:20210614T080000+0300
DTEND:20210614T200000+0300
SUMMARY:PKS ICT PRO; Juhannus jäätelöt jäsenille! 
LOCATION:Jäätelökoodi lähetetään sähköpostitse
END:VEVENT
END:VCALENDAR