BEGIN:VCALENDAR
VERSION: 2.0
PRODID: -//hacksw/handcal//NONSGML v1.0//EN
BEGIN:VEVENT
UID:20260424T192435+030016479@kalenteri.proliitto.fi
DTSTAMP:20260424T192435+0300
DTSTART:20220322T170000+0200
DTEND:20220322T193000+0200
SUMMARY:Kuopion Seudun Pro ry:n vuosikokous 22.3.2022
LOCATION:Lounasravintola Remar Portti (Kuopion uusi matkakeskus) kokoustilat,   Puutarhakatu 9, 70300 Kuopio
END:VEVENT
END:VCALENDAR