BEGIN:VCALENDAR
VERSION: 2.0
PRODID: -//hacksw/handcal//NONSGML v1.0//EN
BEGIN:VEVENT
UID:20260423T200615+030016501@kalenteri.proliitto.fi
DTSTAMP:20260423T200615+0300
DTSTART:20220324T091500+0200
DTEND:20220324T140000+0200
SUMMARY:! TÄ Y N N Ä! PKS ICT PRO / VAPAUTUNUT jäsenhintaisia Linnanmäen rannekkeita!
LOCATION:Linnanmäki, Tivolikuja 1, Helsinki
END:VEVENT
END:VCALENDAR