BEGIN:VCALENDAR
VERSION: 2.0
PRODID: -//hacksw/handcal//NONSGML v1.0//EN
BEGIN:VEVENT
UID:20260423T115948+030016228@kalenteri.proliitto.fi
DTSTAMP:20260423T115948+0300
DTSTART:20210417T160000+0300
DTEND:20210417T000000+0300
SUMMARY:Itä-Uudenmaan online-kokkikoulu
LOCATION:Zoom. Ilmoittautumislinkki lähetetään osallistujille
END:VEVENT
END:VCALENDAR